BEGIN:VCALENDAR
VERSION:2.0
METHOD:PUBLISH
PRODID:-//Causal Sarl//LionsBase Calendar 5.0.x-dev//DE
TZID:Europe/Zurich
BEGIN:VEVENT
UID:30481_20260626@pongau-hoech.lions.at
DTSTAMP:20260420T005636Z
DTSTART:20260626T170000Z
DTEND:20260626T203000Z
ORGANIZER:LC Pongau Höch intern
LOCATION:wird noch bekanntgegeben
SUMMARY:Präsidentenübergabe an Klemens Lagler
DESCRIPTION:Gesellschaftliche Veranstaltung mit Partner/innen.
END:VEVENT
END:VCALENDAR
